BEGIN:VCALENDAR
VERSION:2.0
PRODID:-//AudioTheme 3.0.2
BEGIN:VEVENT
UID:urn:uuid:c71762f1-be9b-4313-9250-575b7a2ccd17
URL:https://greywood-records.com/shows/gig-290/
DTSTART;TZID=GMT:20171027T180000
SUMMARY:Stereo Wonderland
LOCATION:Stereo Wonderland\, Cologne\, \, Germany
END:VEVENT
END:VCALENDAR
