BEGIN:VCALENDAR
VERSION:2.0
PRODID:-//AudioTheme 3.0.2
BEGIN:VEVENT
UID:urn:uuid:646535af-2287-4508-ac59-8d0861f5841a
URL:https://greywood-records.com/shows/gig-297/
DTSTART;TZID=GMT:20171025T180000
SUMMARY:Barkett
LOCATION:Barkett\, Berlin\, \, Germany
END:VEVENT
END:VCALENDAR
