BEGIN:VCALENDAR
VERSION:2.0
PRODID:-//AudioTheme 3.0.2
BEGIN:VEVENT
UID:urn:uuid:cd8513da-640b-44a0-85c1-1532a868ded8
URL:https://greywood-records.com/shows/gig-299/
DTSTART;TZID=GMT:20171026T180000
SUMMARY:Kukuun
LOCATION:Kukuun\, Hamburg\, \, Germany
END:VEVENT
END:VCALENDAR
